BEGIN:VCALENDAR
VERSION:2.0
PRODID:-//85.13.152.48//NONSGML kigkonsult.se iCalcreator 2.41.92//
CALSCALE:GREGORIAN
METHOD:PUBLISH
UID:37626132-3664-4166-b761-346536313635
X-WR-TIMEZONE:Europe/Berlin
BEGIN:VEVENT
UID:32666439-3865-4336-a266-643639393539
DTSTAMP:20260421T014038Z
DTSTART;TZID=Europe/Berlin:20191014T200000
DTEND;TZID=Europe/Berlin:20191014T220000
LOCATION:Feuerwehrhaus Tengen
SUMMARY:Zugprobe
END:VEVENT
END:VCALENDAR
