BEGIN:VCALENDAR
VERSION:2.0
PRODID:-//85.13.152.48//NONSGML kigkonsult.se iCalcreator 2.41.92//
CALSCALE:GREGORIAN
METHOD:PUBLISH
UID:37316663-3838-4531-b933-313934643066
X-WR-TIMEZONE:Europe/Berlin
BEGIN:VEVENT
UID:36383364-6233-4637-a562-643235366336
DTSTAMP:20260421T083014Z
DTSTART;TZID=Europe/Berlin:20191111T183000
DTEND;TZID=Europe/Berlin:20191111T194500
LOCATION:Feuerwehrhaus Tengen
SUMMARY:JF Probe
END:VEVENT
END:VCALENDAR
