BEGIN:VCALENDAR
VERSION:2.0
PRODID:-//85.13.152.48//NONSGML kigkonsult.se iCalcreator 2.41.92//
CALSCALE:GREGORIAN
METHOD:PUBLISH
UID:30393765-3633-4431-b338-333535613933
X-WR-TIMEZONE:Europe/Berlin
BEGIN:VEVENT
UID:30333036-3537-4232-b438-613830643966
DTSTAMP:20260422T025613Z
DTSTART;TZID=Europe/Berlin:20191021T183000
DTEND;TZID=Europe/Berlin:20191021T194500
LOCATION:Feuerwehrhaus Tengen
SUMMARY:JF Probe
END:VEVENT
END:VCALENDAR
