BEGIN:VCALENDAR
VERSION:2.0
PRODID:-//85.13.152.48//NONSGML kigkonsult.se iCalcreator 2.41.92//
CALSCALE:GREGORIAN
METHOD:PUBLISH
UID:34396234-3635-4137-b531-343966643231
X-WR-TIMEZONE:Europe/Berlin
BEGIN:VEVENT
UID:38663432-3833-4935-a530-633836303965
DTSTAMP:20260420T091911Z
DTSTART;TZID=Europe/Berlin:20191007T183000
DTEND;TZID=Europe/Berlin:20191007T194500
LOCATION:Feuerwehrhaus Tengen
SUMMARY:JF Probe
END:VEVENT
END:VCALENDAR
