BEGIN:VCALENDAR
VERSION:2.0
PRODID:-//85.13.152.48//NONSGML kigkonsult.se iCalcreator 2.41.92//
CALSCALE:GREGORIAN
METHOD:PUBLISH
UID:32323831-6232-4139-b434-653631643738
X-WR-TIMEZONE:Europe/Berlin
BEGIN:VEVENT
UID:32633761-3564-4364-b931-656165623139
DTSTAMP:20260420T150437Z
DTSTART;TZID=Europe/Berlin:20200217T200000
DTEND;TZID=Europe/Berlin:20200217T220000
LOCATION:Feuerwehrhaus Tengen
SUMMARY:GF Ausbildung
END:VEVENT
END:VCALENDAR
