BEGIN:VCALENDAR
VERSION:2.0
PRODID:-//85.13.152.48//NONSGML kigkonsult.se iCalcreator 2.41.92//
CALSCALE:GREGORIAN
METHOD:PUBLISH
UID:34356136-3431-4466-b437-303938306264
X-WR-TIMEZONE:Europe/Berlin
BEGIN:VEVENT
UID:33666666-3332-4833-b064-356665633430
DTSTAMP:20260421T101639Z
DTSTART;TZID=Europe/Berlin:20200201T090000
DTEND;TZID=Europe/Berlin:20200201T120000
LOCATION:Feuerwehrhaus Tengen
SUMMARY:Sprechfunkerlehrgang
END:VEVENT
END:VCALENDAR
