BEGIN:VCALENDAR
VERSION:2.0
PRODID:-//85.13.152.48//NONSGML kigkonsult.se iCalcreator 2.41.92//
CALSCALE:GREGORIAN
METHOD:PUBLISH
UID:62643531-6336-4032-b435-623066383336
X-WR-TIMEZONE:Europe/Berlin
BEGIN:VEVENT
UID:39316132-3436-4332-a666-386434333661
DTSTAMP:20260420T033544Z
DTSTART;TZID=Europe/Berlin:20200128T193000
DTEND;TZID=Europe/Berlin:20200128T220000
LOCATION:Feuerwehrhaus Tengen
SUMMARY:Sprechfunkerlehrgang
END:VEVENT
END:VCALENDAR
