BEGIN:VCALENDAR
VERSION:2.0
PRODID:-//85.13.152.48//NONSGML kigkonsult.se iCalcreator 2.41.92//
CALSCALE:GREGORIAN
METHOD:PUBLISH
UID:32643533-3163-4634-a339-313430316363
X-WR-TIMEZONE:Europe/Berlin
BEGIN:VEVENT
UID:61656264-6333-4333-b632-633666333638
DTSTAMP:20260423T233224Z
DTSTART;TZID=Europe/Berlin:20261003T000000
DTEND;TZID=Europe/Berlin:20261004T020000
SUMMARY:Tag der Deutschen Einheit
END:VEVENT
END:VCALENDAR
