BEGIN:VCALENDAR
VERSION:2.0
PRODID:-//85.13.152.48//NONSGML kigkonsult.se iCalcreator 2.41.92//
CALSCALE:GREGORIAN
METHOD:PUBLISH
UID:33336462-3963-4935-b663-343364656663
X-WR-TIMEZONE:Europe/Berlin
BEGIN:VEVENT
UID:31616161-6331-4230-a537-346462656430
DTSTAMP:20260421T083112Z
DTSTART;TZID=Europe/Berlin:20260306T193000
DTEND;TZID=Europe/Berlin:20260306T213000
LOCATION:Feuerwehrhaus Wiechs a.R.
SUMMARY:Jahreshauptversammlung Wiechs a.R.
END:VEVENT
END:VCALENDAR
