BEGIN:VCALENDAR
VERSION:2.0
PRODID:-//85.13.152.48//NONSGML kigkonsult.se iCalcreator 2.41.92//
CALSCALE:GREGORIAN
METHOD:PUBLISH
UID:31346265-6561-4237-a338-376435363235
X-WR-TIMEZONE:Europe/Berlin
BEGIN:VEVENT
UID:66363136-3537-4833-b736-373430303131
DTSTAMP:20260422T103320Z
DESCRIPTION:Treffpunkt um 17:00 Uhr am Feuerwehrhaus in Tengen
DTSTART;TZID=Europe/Berlin:20260327T190000
DTEND;TZID=Europe/Berlin:20260327T230000
LOCATION:Konstanz-Wollmatingen
SUMMARY:Kreisverbandsversammlung
END:VEVENT
END:VCALENDAR
