BEGIN:VCALENDAR
VERSION:2.0
PRODID:-//85.13.152.48//NONSGML kigkonsult.se iCalcreator 2.41.92//
CALSCALE:GREGORIAN
METHOD:PUBLISH
UID:30633534-6361-4662-b462-343064643436
X-WR-TIMEZONE:Europe/Berlin
BEGIN:VEVENT
UID:39626431-6537-4339-a636-316633326136
DTSTAMP:20260422T092812Z
DTSTART;TZID=Europe/Berlin:20260227T193000
DTEND;TZID=Europe/Berlin:20260227T213000
LOCATION:Bürgersaal Tengen
SUMMARY:Jahreshauptversammlung Tengen
END:VEVENT
END:VCALENDAR
