BEGIN:VCALENDAR
VERSION:2.0
PRODID:-//85.13.152.48//NONSGML kigkonsult.se iCalcreator 2.41.92//
CALSCALE:GREGORIAN
METHOD:PUBLISH
UID:32393139-6663-4437-b833-346233316564
X-WR-TIMEZONE:Europe/Berlin
BEGIN:VEVENT
UID:32383030-3132-4131-b330-356434306537
DTSTAMP:20260423T201050Z
DTSTART;TZID=Europe/Berlin:20200110T180000
DTEND;TZID=Europe/Berlin:20200110T220000
LOCATION:Feuerwehrhaus Tengen
SUMMARY:Schlachtfest
END:VEVENT
END:VCALENDAR
