BEGIN:VCALENDAR
VERSION:2.0
PRODID:-//85.13.152.48//NONSGML kigkonsult.se iCalcreator 2.41.92//
CALSCALE:GREGORIAN
METHOD:PUBLISH
UID:30653762-3063-4836-a135-383434373130
X-WR-TIMEZONE:Europe/Berlin
BEGIN:VEVENT
UID:36613566-3634-4539-a331-363638613265
DTSTAMP:20260424T234740Z
DTSTART;TZID=Europe/Berlin:20250428T200000
DTEND;TZID=Europe/Berlin:20250428T220000
LOCATION:Treffpunkt Feuerwehrhaus
SUMMARY:Zugprobe mit Ausrückebereich Büßlingen
END:VEVENT
END:VCALENDAR
