BEGIN:VCALENDAR
VERSION:2.0
PRODID:-//85.13.152.48//NONSGML kigkonsult.se iCalcreator 2.41.92//
CALSCALE:GREGORIAN
METHOD:PUBLISH
UID:34643231-6534-4162-a630-653862613533
X-WR-TIMEZONE:Europe/Berlin
BEGIN:VEVENT
UID:39313938-3735-4033-b063-323863376431
DTSTAMP:20260424T101250Z
DTSTART;TZID=Europe/Berlin:20250117T180000
DTEND;TZID=Europe/Berlin:20250117T230000
LOCATION:Feuerwehrhaus Tengen
SUMMARY:Schlachtfest
END:VEVENT
END:VCALENDAR
