BEGIN:VCALENDAR
VERSION:2.0
PRODID:-//85.13.152.48//NONSGML kigkonsult.se iCalcreator 2.41.92//
CALSCALE:GREGORIAN
METHOD:PUBLISH
UID:30613337-3637-4638-a438-316362616436
X-WR-TIMEZONE:Europe/Berlin
BEGIN:VEVENT
UID:62303133-6266-4233-b931-633338323536
DTSTAMP:20260421T083055Z
DTSTART;TZID=Europe/Berlin:20241116T140000
DTEND;TZID=Europe/Berlin:20241116T180000
LOCATION:Treffpunkt Feuerwehrhaus
SUMMARY:Jahreshauptübung Tengen
END:VEVENT
END:VCALENDAR
