BEGIN:VCALENDAR
VERSION:2.0
PRODID:-//85.13.152.48//NONSGML kigkonsult.se iCalcreator 2.41.92//
CALSCALE:GREGORIAN
METHOD:PUBLISH
UID:64353538-6362-4461-b263-306537633566
X-WR-TIMEZONE:Europe/Berlin
BEGIN:VEVENT
UID:33316630-3563-4439-a336-653536663662
DTSTAMP:20260423T032603Z
DTSTART;TZID=Europe/Berlin:20241102T150000
DTEND;TZID=Europe/Berlin:20241102T180000
LOCATION:Feuerwehrhaus Tengen
SUMMARY:Abbau Wurststand
END:VEVENT
END:VCALENDAR
