BEGIN:VCALENDAR
VERSION:2.0
PRODID:-//85.13.152.48//NONSGML kigkonsult.se iCalcreator 2.41.92//
CALSCALE:GREGORIAN
METHOD:PUBLISH
UID:36353737-3561-4236-a238-396133393132
X-WR-TIMEZONE:Europe/Berlin
BEGIN:VEVENT
UID:31323163-3437-4830-b766-643239323165
DTSTAMP:20260422T091423Z
DTSTART;TZID=Europe/Berlin:20241009T200000
DTEND;TZID=Europe/Berlin:20241009T220000
LOCATION:Feuerwehrhaus Tengen
SUMMARY:Atemschutzprobe Gruppe 2
END:VEVENT
END:VCALENDAR
