BEGIN:VCALENDAR
VERSION:2.0
PRODID:-//85.13.152.48//NONSGML kigkonsult.se iCalcreator 2.41.92//
CALSCALE:GREGORIAN
METHOD:PUBLISH
UID:64626135-6533-4361-a565-333565343166
X-WR-TIMEZONE:Europe/Berlin
BEGIN:VEVENT
UID:37303034-3435-4265-b832-623330623363
DTSTAMP:20260420T094834Z
DTSTART;TZID=Europe/Berlin:20240628T000000
DTEND;TZID=Europe/Berlin:20240630T000000
LOCATION:Rielasingen-Worblingen
SUMMARY:Landesjugendfeuerwehrtag
END:VEVENT
END:VCALENDAR
