BEGIN:VCALENDAR
VERSION:2.0
PRODID:-//85.13.152.48//NONSGML kigkonsult.se iCalcreator 2.41.92//
CALSCALE:GREGORIAN
METHOD:PUBLISH
UID:37393565-3765-4335-b366-653034333462
X-WR-TIMEZONE:Europe/Berlin
BEGIN:VEVENT
UID:62663734-6337-4539-a530-353961356638
DTSTAMP:20260422T091648Z
DTSTART;TZID=Europe/Berlin:20240628T000000
DTEND;TZID=Europe/Berlin:20240630T000000
LOCATION:Rielasingen-Worblingen
SUMMARY:JF Landesjugendfeuerwehrtag
END:VEVENT
END:VCALENDAR
