BEGIN:VCALENDAR
VERSION:2.0
PRODID:-//85.13.152.48//NONSGML kigkonsult.se iCalcreator 2.41.92//
CALSCALE:GREGORIAN
METHOD:PUBLISH
UID:61353734-3133-4264-b636-326465373930
X-WR-TIMEZONE:Europe/Berlin
BEGIN:VEVENT
UID:32663466-3933-4132-b962-333032316531
DTSTAMP:20260423T140257Z
DTSTART;TZID=Europe/Berlin:20240304T200000
DTEND;TZID=Europe/Berlin:20240304T220000
LOCATION:Feuerwehrhaus Tengen
SUMMARY:Zugprobe
END:VEVENT
END:VCALENDAR
