BEGIN:VCALENDAR
VERSION:2.0
PRODID:-//85.13.152.48//NONSGML kigkonsult.se iCalcreator 2.41.92//
CALSCALE:GREGORIAN
METHOD:PUBLISH
UID:65626662-3164-4339-a431-323061343331
X-WR-TIMEZONE:Europe/Berlin
BEGIN:VEVENT
UID:63613439-3135-4838-b766-306636353834
DTSTAMP:20260422T093939Z
DTSTART;TZID=Europe/Berlin:20191019T150000
DTEND;TZID=Europe/Berlin:20191019T180000
LOCATION:Feuerwehrhaus Tengen
SUMMARY:Aufbau Wurststand
END:VEVENT
END:VCALENDAR
