BEGIN:VCALENDAR
VERSION:2.0
PRODID:-//85.13.152.48//NONSGML kigkonsult.se iCalcreator 2.41.92//
CALSCALE:GREGORIAN
METHOD:PUBLISH
UID:61643031-3636-4661-a532-633262616637
X-WR-TIMEZONE:Europe/Berlin
BEGIN:VEVENT
UID:66393764-3231-4162-b765-303431633264
DTSTAMP:20260422T091858Z
DTSTART;TZID=Europe/Berlin:20230619T183000
DTEND;TZID=Europe/Berlin:20230619T194500
LOCATION:Feuerwehrhaus Tengen
SUMMARY:JF Probe
END:VEVENT
END:VCALENDAR
