BEGIN:VCALENDAR
VERSION:2.0
PRODID:-//85.13.152.48//NONSGML kigkonsult.se iCalcreator 2.41.92//
CALSCALE:GREGORIAN
METHOD:PUBLISH
UID:65623235-6266-4334-a338-383436653161
X-WR-TIMEZONE:Europe/Berlin
BEGIN:VEVENT
UID:34626232-3066-4465-a163-633030653461
DTSTAMP:20260421T083024Z
DTSTART;TZID=Europe/Berlin:20230325T090000
DTEND;TZID=Europe/Berlin:20230325T130000
LOCATION:Treffpunkt Feuerwehrhaus Tengen
SUMMARY:JF Waldputz
END:VEVENT
END:VCALENDAR
