BEGIN:VCALENDAR
VERSION:2.0
PRODID:-//85.13.152.48//NONSGML kigkonsult.se iCalcreator 2.41.92//
CALSCALE:GREGORIAN
METHOD:PUBLISH
UID:64353837-6439-4139-b466-376537393232
X-WR-TIMEZONE:Europe/Berlin
BEGIN:VEVENT
UID:37636332-6264-4138-b761-383365623534
DTSTAMP:20260425T110422Z
DTSTART;TZID=Europe/Berlin:20231021T150000
DTEND;TZID=Europe/Berlin:20231021T180000
LOCATION:Feuerwehrhaus Tengen
SUMMARY:Aufbau Wurststand
END:VEVENT
END:VCALENDAR
