BEGIN:VCALENDAR
VERSION:2.0
PRODID:-//85.13.152.48//NONSGML kigkonsult.se iCalcreator 2.41.92//
CALSCALE:GREGORIAN
METHOD:PUBLISH
UID:65323531-3132-4631-b838-626531363764
X-WR-TIMEZONE:Europe/Berlin
BEGIN:VEVENT
UID:30376239-6638-4963-a264-663066393262
DTSTAMP:20260421T105604Z
DTSTART;TZID=Europe/Berlin:20230911T200000
DTEND;TZID=Europe/Berlin:20230911T220000
LOCATION:Feuerwehrhaus Tengen
SUMMARY:Zugprobe
END:VEVENT
END:VCALENDAR
