BEGIN:VCALENDAR
VERSION:2.0
PRODID:-//85.13.152.48//NONSGML kigkonsult.se iCalcreator 2.41.92//
CALSCALE:GREGORIAN
METHOD:PUBLISH
UID:34336333-6333-4334-b430-323634363631
X-WR-TIMEZONE:Europe/Berlin
BEGIN:VEVENT
UID:30613032-6333-4562-a535-353639633735
DTSTAMP:20260422T092322Z
DTSTART;TZID=Europe/Berlin:20230717T200000
DTEND;TZID=Europe/Berlin:20230717T220000
LOCATION:Feuerwehrhaus Tengen
SUMMARY:Zugprobe
END:VEVENT
END:VCALENDAR
