BEGIN:VCALENDAR
VERSION:2.0
PRODID:-//85.13.152.48//NONSGML kigkonsult.se iCalcreator 2.41.92//
CALSCALE:GREGORIAN
METHOD:PUBLISH
UID:65323533-3861-4635-a561-643862313435
X-WR-TIMEZONE:Europe/Berlin
BEGIN:VEVENT
UID:38653063-3634-4336-b264-353731646132
DTSTAMP:20260425T215610Z
DESCRIPTION:Treffpunkt um 18.00 Uhr am Feuerwehrhaus in TengenÜbungsbeginn 
 um 19.00 Uhr
DTSTART;TZID=Europe/Berlin:20230920T190000
DTEND;TZID=Europe/Berlin:20230920T210000
LOCATION:Feuerwehrhaus Schaffhausen
SUMMARY:Atemschutzstrecke
END:VEVENT
END:VCALENDAR
