BEGIN:VCALENDAR
VERSION:2.0
PRODID:-//85.13.152.48//NONSGML kigkonsult.se iCalcreator 2.41.92//
CALSCALE:GREGORIAN
METHOD:PUBLISH
UID:34386262-3461-4433-b937-366135373933
X-WR-TIMEZONE:Europe/Berlin
BEGIN:VEVENT
UID:66323630-6665-4537-a464-353361373462
DTSTAMP:20260422T122740Z
DTSTART;TZID=Europe/Berlin:20230405T200000
DTEND;TZID=Europe/Berlin:20230405T210000
LOCATION:Feuerwehrhaus Tengen
SUMMARY:Atemschutzunterweisung
END:VEVENT
END:VCALENDAR
