BEGIN:VCALENDAR
VERSION:2.0
PRODID:-//85.13.152.48//NONSGML kigkonsult.se iCalcreator 2.41.92//
CALSCALE:GREGORIAN
METHOD:PUBLISH
UID:39336464-3265-4632-a537-356331663737
X-WR-TIMEZONE:Europe/Berlin
BEGIN:VEVENT
UID:37346432-6336-4431-b530-656134376636
DTSTAMP:20260422T092507Z
DTSTART;TZID=Europe/Berlin:20230304T130000
DTEND;TZID=Europe/Berlin:20230304T220000
LOCATION:Zürich
SUMMARY:Schutz & Rettung Zürich
END:VEVENT
END:VCALENDAR
