BEGIN:VCALENDAR
VERSION:2.0
PRODID:-//85.13.152.48//NONSGML kigkonsult.se iCalcreator 2.41.92//
CALSCALE:GREGORIAN
METHOD:PUBLISH
UID:33366237-3339-4261-b561-303234333135
X-WR-TIMEZONE:Europe/Berlin
BEGIN:VEVENT
UID:37316439-6536-4239-b166-633865313630
DTSTAMP:20260420T221036Z
DTSTART;TZID=Europe/Berlin:20220929T180000
DTEND;TZID=Europe/Berlin:20220929T220000
LOCATION:Feuerwehrhaus Tengen
SUMMARY:Brandcontainer – ED Netze
END:VEVENT
END:VCALENDAR
