BEGIN:VCALENDAR
VERSION:2.0
PRODID:-//85.13.152.48//NONSGML kigkonsult.se iCalcreator 2.41.92//
CALSCALE:GREGORIAN
METHOD:PUBLISH
UID:38363232-3666-4965-a162-363439393230
X-WR-TIMEZONE:Europe/Berlin
BEGIN:VEVENT
UID:33346466-3263-4162-b735-313333613364
DTSTAMP:20260425T165311Z
DTSTART;TZID=Europe/Berlin:20221128T200000
DTEND;TZID=Europe/Berlin:20221128T220000
LOCATION:Feuerwehrhaus Tengen
SUMMARY:Maschinistenprobe Gruppe 2
END:VEVENT
END:VCALENDAR
