BEGIN:VCALENDAR
VERSION:2.0
PRODID:-//85.13.152.48//NONSGML kigkonsult.se iCalcreator 2.41.92//
CALSCALE:GREGORIAN
METHOD:PUBLISH
UID:66303861-6465-4436-b361-316638376366
X-WR-TIMEZONE:Europe/Berlin
BEGIN:VEVENT
UID:34346361-3536-4337-b633-623531623931
DTSTAMP:20260420T183701Z
DTSTART;TZID=Europe/Berlin:20220625T110000
DTEND;TZID=Europe/Berlin:20220625T180000
LOCATION:Blumenfeld
SUMMARY:Talgarage – Tag der offenen Tür
END:VEVENT
END:VCALENDAR
