BEGIN:VCALENDAR
VERSION:2.0
PRODID:-//85.13.152.48//NONSGML kigkonsult.se iCalcreator 2.41.92//
CALSCALE:GREGORIAN
METHOD:PUBLISH
UID:36613765-3736-4535-b963-643532633265
X-WR-TIMEZONE:Europe/Berlin
BEGIN:VEVENT
UID:30653362-3237-4334-a465-613166363261
DTSTAMP:20260421T103545Z
DTSTART;TZID=Europe/Berlin:20220207T200000
DTEND;TZID=Europe/Berlin:20220207T220000
LOCATION:Feuerwehrhaus Tengen
SUMMARY:Maschinistenprobe Gruppe 1
END:VEVENT
END:VCALENDAR
