BEGIN:VCALENDAR
VERSION:2.0
PRODID:-//85.13.152.48//NONSGML kigkonsult.se iCalcreator 2.41.92//
CALSCALE:GREGORIAN
METHOD:PUBLISH
UID:39323837-6538-4832-a338-343665303437
X-WR-TIMEZONE:Europe/Berlin
BEGIN:VEVENT
UID:62643635-3033-4234-b634-643739386632
DTSTAMP:20260421T103037Z
DTSTART;TZID=Europe/Berlin:20211018T200000
DTEND;TZID=Europe/Berlin:20211018T220000
LOCATION:Feuerwehrhaus Tengen
SUMMARY:Zugprobe
END:VEVENT
END:VCALENDAR
