BEGIN:VCALENDAR
VERSION:2.0
PRODID:-//85.13.152.48//NONSGML kigkonsult.se iCalcreator 2.41.92//
CALSCALE:GREGORIAN
METHOD:PUBLISH
UID:37336364-6462-4063-b562-646136633665
X-WR-TIMEZONE:Europe/Berlin
BEGIN:VEVENT
UID:65636365-3036-4034-b137-663935316435
DTSTAMP:20260423T103520Z
DTSTART;TZID=Europe/Berlin:20200901T200000
DTEND;TZID=Europe/Berlin:20200901T220000
LOCATION:Feuerwehrhaus Tengen
SUMMARY:Ausschusssitzung
END:VEVENT
END:VCALENDAR
